BEGIN:VCALENDAR
VERSION:2.0
PRODID:-//Pineham Barns - ECPv6.13.2.1//NONSGML v1.0//EN
CALSCALE:GREGORIAN
METHOD:PUBLISH
X-WR-CALNAME:Pineham Barns
X-ORIGINAL-URL:https://pinehambarns.school
X-WR-CALDESC:Events for Pineham Barns
REFRESH-INTERVAL;VALUE=DURATION:PT1H
X-Robots-Tag:noindex
X-PUBLISHED-TTL:PT1H
BEGIN:VTIMEZONE
TZID:UTC
BEGIN:STANDARD
TZOFFSETFROM:+0000
TZOFFSETTO:+0000
TZNAME:UTC
DTSTART:20260101T000000
END:STANDARD
END:VTIMEZONE
BEGIN:VEVENT
DTSTART;VALUE=DATE:20260312
DTEND;VALUE=DATE:20260313
DTSTAMP:20260420T170103
CREATED:20260227T143319Z
LAST-MODIFIED:20260227T143340Z
UID:1882-1773273600-1773359999@pinehambarns.school
SUMMARY:PTA Mother's Day (Years 1\, 2 & 3 - 8:15am)
DESCRIPTION:
URL:https://pinehambarns.school/calendar/pta-mothers-day-years-1-2-3-815am/
END:VEVENT
BEGIN:VEVENT
DTSTART;VALUE=DATE:20260312
DTEND;VALUE=DATE:20260313
DTSTAMP:20260420T170103
CREATED:20260227T143422Z
LAST-MODIFIED:20260227T143422Z
UID:1884-1773273600-1773359999@pinehambarns.school
SUMMARY:PTA Mother's Day (EYFS - 2:30pm)
DESCRIPTION:
URL:https://pinehambarns.school/calendar/pta-mothers-day-eyfs-230pm/
END:VEVENT
END:VCALENDAR