BEGIN:VCALENDAR
VERSION:2.0
PRODID:-//Pineham Barns - ECPv6.13.2.1//NONSGML v1.0//EN
CALSCALE:GREGORIAN
METHOD:PUBLISH
X-ORIGINAL-URL:https://pinehambarns.school
X-WR-CALDESC:Events for Pineham Barns
REFRESH-INTERVAL;VALUE=DURATION:PT1H
X-Robots-Tag:noindex
X-PUBLISHED-TTL:PT1H
BEGIN:VTIMEZONE
TZID:UTC
BEGIN:STANDARD
TZOFFSETFROM:+0000
TZOFFSETTO:+0000
TZNAME:UTC
DTSTART:20260101T000000
END:STANDARD
END:VTIMEZONE
BEGIN:VEVENT
DTSTART;VALUE=DATE:20260313
DTEND;VALUE=DATE:20260314
DTSTAMP:20260420T152159
CREATED:20260209T135929Z
LAST-MODIFIED:20260209T135929Z
UID:1875-1773360000-1773446399@pinehambarns.school
SUMMARY:Reception - Dinosaur Celebration Day
DESCRIPTION:
URL:https://pinehambarns.school/calendar/reception-dinosaur-celebration-day/
END:VEVENT
BEGIN:VEVENT
DTSTART;VALUE=DATE:20260313
DTEND;VALUE=DATE:20260314
DTSTAMP:20260420T152159
CREATED:20260227T143453Z
LAST-MODIFIED:20260227T143453Z
UID:1886-1773360000-1773446399@pinehambarns.school
SUMMARY:PTA Mother's Day (Years 4\, 5 & 6 - 8:15am)
DESCRIPTION:
URL:https://pinehambarns.school/calendar/pta-mothers-day-years-4-5-6-815am/
END:VEVENT
END:VCALENDAR