BEGIN:VCALENDAR
VERSION:2.0
PRODID:-//Pineham Barns - ECPv6.13.2.1//NONSGML v1.0//EN
CALSCALE:GREGORIAN
METHOD:PUBLISH
X-WR-CALNAME:Pineham Barns
X-ORIGINAL-URL:https://pinehambarns.school
X-WR-CALDESC:Events for Pineham Barns
REFRESH-INTERVAL;VALUE=DURATION:PT1H
X-Robots-Tag:noindex
X-PUBLISHED-TTL:PT1H
BEGIN:VTIMEZONE
TZID:UTC
BEGIN:STANDARD
TZOFFSETFROM:+0000
TZOFFSETTO:+0000
TZNAME:UTC
DTSTART:20240101T000000
END:STANDARD
END:VTIMEZONE
BEGIN:VEVENT
DTSTART;TZID=UTC:20241111T143000
DTEND;TZID=UTC:20241111T153000
DTSTAMP:20260421T230309
CREATED:20240809T113858Z
LAST-MODIFIED:20250212T103347Z
UID:691-1731335400-1731339000@pinehambarns.school
SUMMARY:Zones of Regulations
DESCRIPTION:
URL:https://pinehambarns.school/calendar/zones-of-regulations/
END:VEVENT
BEGIN:VEVENT
DTSTART;TZID=UTC:20241107T090000
DTEND;TZID=UTC:20241107T170000
DTSTAMP:20260421T230309
CREATED:20250211T095859Z
LAST-MODIFIED:20250212T102706Z
UID:1163-1730970000-1730998800@pinehambarns.school
SUMMARY:Year 1 Phonics Workshop
DESCRIPTION:Session times: 9am / 2.45pm / 5pm
URL:https://pinehambarns.school/calendar/year-1-phonics-workshop/
END:VEVENT
END:VCALENDAR